BEGIN:VCALENDAR
VERSION:2.0
PRODID:-//Boleskine House - ECPv6.15.20//NONSGML v1.0//EN
CALSCALE:GREGORIAN
METHOD:PUBLISH
X-ORIGINAL-URL:https://boleskinehouse.org
X-WR-CALDESC:Events for Boleskine House
REFRESH-INTERVAL;VALUE=DURATION:PT1H
X-Robots-Tag:noindex
X-PUBLISHED-TTL:PT1H
BEGIN:VTIMEZONE
TZID:UTC
BEGIN:STANDARD
TZOFFSETFROM:+0000
TZOFFSETTO:+0000
TZNAME:UTC
DTSTART:20230101T000000
END:STANDARD
END:VTIMEZONE
BEGIN:VEVENT
DTSTART;VALUE=DATE:20241221
DTEND;VALUE=DATE:20241222
DTSTAMP:20260421T130232
CREATED:20241213T232026Z
LAST-MODIFIED:20250131T193321Z
UID:10000015-1734739200-1734825599@boleskinehouse.org
SUMMARY:Well-being @ Boleskine: The Onset of Winter
DESCRIPTION:At the darkest time\, ways of staying connected to others. Understanding what connection means for people. Thriving via traditional ways or modern technology. \nOnline \nBoleskine House is inviting you to a scheduled Zoom meeting. \nTopic: Well-being @ Boleskine: The Onset of Winter\nTime: Dec 21\, 2024 07:00 PM London \nJoin Zoom Meeting\nhttps://zoom.us/j/97858704994?pwd=5YMXKg00f0mLq4AmREMIdGb0s6bi8P.1 \nMeeting ID: 978 5870 4994\nPasscode: 560421
URL:https://boleskinehouse.org/event/well-being-boleskine-the-onset-of-winter/
LOCATION:Boleskine House is inviting you to a scheduled Zoom meeting.
ATTACH;FMTTYPE=image/jpeg:https://boleskinehouse.org/wp-content/uploads/2024/12/blog-placeholder-image.jpg
END:VEVENT
END:VCALENDAR