BEGIN:VCALENDAR
VERSION:2.0
PRODID:-//Boleskine House - ECPv6.15.20//NONSGML v1.0//EN
CALSCALE:GREGORIAN
METHOD:PUBLISH
X-WR-CALNAME:Boleskine House
X-ORIGINAL-URL:https://boleskinehouse.org
X-WR-CALDESC:Events for Boleskine House
REFRESH-INTERVAL;VALUE=DURATION:PT1H
X-Robots-Tag:noindex
X-PUBLISHED-TTL:PT1H
BEGIN:VTIMEZONE
TZID:Europe/London
BEGIN:DAYLIGHT
TZOFFSETFROM:+0000
TZOFFSETTO:+0100
TZNAME:BST
DTSTART:20240331T010000
END:DAYLIGHT
BEGIN:STANDARD
TZOFFSETFROM:+0100
TZOFFSETTO:+0000
TZNAME:GMT
DTSTART:20241027T010000
END:STANDARD
BEGIN:DAYLIGHT
TZOFFSETFROM:+0000
TZOFFSETTO:+0100
TZNAME:BST
DTSTART:20250330T010000
END:DAYLIGHT
BEGIN:STANDARD
TZOFFSETFROM:+0100
TZOFFSETTO:+0000
TZNAME:GMT
DTSTART:20251026T010000
END:STANDARD
BEGIN:DAYLIGHT
TZOFFSETFROM:+0000
TZOFFSETTO:+0100
TZNAME:BST
DTSTART:20260329T010000
END:DAYLIGHT
BEGIN:STANDARD
TZOFFSETFROM:+0100
TZOFFSETTO:+0000
TZNAME:GMT
DTSTART:20261025T010000
END:STANDARD
END:VTIMEZONE
BEGIN:VEVENT
DTSTART;TZID=Europe/London:20250303T110000
DTEND;TZID=Europe/London:20250303T110000
DTSTAMP:20260421T111059
CREATED:20241213T231652Z
LAST-MODIFIED:20250204T163635Z
UID:10000013-1740999600-1740999600@boleskinehouse.org
SUMMARY:Boleskine Heritage and Conservation: Stonework Conservation Tour
DESCRIPTION:See the remarkable skills in heritage conservation that have shaped the restoration of Boleskine House. Our expert volunteer team will lead attendees around the building and talk about all of the hard hours put into the stonemasonry since 2020. From stone sourcing and installation to pointing and lime harling\, get a first hand look at what our project has entailed and learn about our philosophy of conservation. \nIn-person\, onsite
URL:https://boleskinehouse.org/event/heritage-stonemasonry-01/
LOCATION:Boleskine House\, Boleskine House\, Inverness\, IV2 6XT\, United Kingdom
CATEGORIES:Heritage and Conservation
ATTACH;FMTTYPE=image/jpeg:https://boleskinehouse.org/wp-content/uploads/2024/12/PHOTO-2022-04-22-15-21-04.jpg
ORGANIZER;CN="Boleskine House":MAILTO:info@boleskinehouse.org
END:VEVENT
END:VCALENDAR