BEGIN:VCALENDAR
VERSION:2.0
PRODID:-//Boleskine House - ECPv6.15.20//NONSGML v1.0//EN
CALSCALE:GREGORIAN
METHOD:PUBLISH
X-WR-CALNAME:Boleskine House
X-ORIGINAL-URL:https://boleskinehouse.org
X-WR-CALDESC:Events for Boleskine House
REFRESH-INTERVAL;VALUE=DURATION:PT1H
X-Robots-Tag:noindex
X-PUBLISHED-TTL:PT1H
BEGIN:VTIMEZONE
TZID:UTC
BEGIN:STANDARD
TZOFFSETFROM:+0000
TZOFFSETTO:+0000
TZNAME:UTC
DTSTART:20240101T000000
END:STANDARD
END:VTIMEZONE
BEGIN:VEVENT
DTSTART;TZID=UTC:20250320T190000
DTEND;TZID=UTC:20250320T200000
DTSTAMP:20260421T142619
CREATED:20241213T200012Z
LAST-MODIFIED:20250204T203133Z
UID:10000002-1742497200-1742500800@boleskinehouse.org
SUMMARY:Well-being @ Boleskine: The Imagination
DESCRIPTION:Using ideas of spring to boost ourselves and our creativity. Join us for another online well-being session with Malcolm. Well-being @ Boleskine focuses on engaged social discussion to create community as a therapeutic activity to relieve stress and diminish social isolation. \n  \nThis is an online event. \n  \n 
URL:https://boleskinehouse.org/event/well-being-boleskine-the-imagination/
LOCATION:Boleskine House is inviting you to a scheduled Zoom meeting.
CATEGORIES:Virtual Events,Well-being @ Boleskine
ATTACH;FMTTYPE=image/jpeg:https://boleskinehouse.org/wp-content/uploads/2024/12/2025-03-20-Well-being-Boleskine.jpg
ORGANIZER;CN="Boleskine House":MAILTO:info@boleskinehouse.org
END:VEVENT
END:VCALENDAR