BEGIN:VCALENDAR
VERSION:2.0
PRODID:-//Boleskine House - ECPv6.15.20//NONSGML v1.0//EN
CALSCALE:GREGORIAN
METHOD:PUBLISH
X-ORIGINAL-URL:https://boleskinehouse.org
X-WR-CALDESC:Events for Boleskine House
REFRESH-INTERVAL;VALUE=DURATION:PT1H
X-Robots-Tag:noindex
X-PUBLISHED-TTL:PT1H
BEGIN:VTIMEZONE
TZID:Europe/London
BEGIN:DAYLIGHT
TZOFFSETFROM:+0000
TZOFFSETTO:+0100
TZNAME:BST
DTSTART:20240331T010000
END:DAYLIGHT
BEGIN:STANDARD
TZOFFSETFROM:+0100
TZOFFSETTO:+0000
TZNAME:GMT
DTSTART:20241027T010000
END:STANDARD
BEGIN:DAYLIGHT
TZOFFSETFROM:+0000
TZOFFSETTO:+0100
TZNAME:BST
DTSTART:20250330T010000
END:DAYLIGHT
BEGIN:STANDARD
TZOFFSETFROM:+0100
TZOFFSETTO:+0000
TZNAME:GMT
DTSTART:20251026T010000
END:STANDARD
BEGIN:DAYLIGHT
TZOFFSETFROM:+0000
TZOFFSETTO:+0100
TZNAME:BST
DTSTART:20260329T010000
END:DAYLIGHT
BEGIN:STANDARD
TZOFFSETFROM:+0100
TZOFFSETTO:+0000
TZNAME:GMT
DTSTART:20261025T010000
END:STANDARD
END:VTIMEZONE
BEGIN:VEVENT
DTSTART;TZID=Europe/London:20250329T100000
DTEND;TZID=Europe/London:20250329T100000
DTSTAMP:20260421T095210
CREATED:20250319T110002Z
LAST-MODIFIED:20250319T163655Z
UID:10000003-1743242400-1743242400@boleskinehouse.org
SUMMARY:Boleskine Nature Events: Native Hedgerow Planting
DESCRIPTION:Join us for a volunteer-led event for up to 35 members of the public of all ages who wish to participate in and learn about native hedgerow planting and the unique holistic inclusiveness of our Nature Restoration Programme. Benefiting the local biodiversity\, whilst at the same time supporting the wellbeing and mental health of the local community and event participants. \nIn-person\, onsite
URL:https://boleskinehouse.org/event/boleskine-nature-events-native-hedgerow-planting/
LOCATION:Boleskine House\, Boleskine House\, Inverness\, IV2 6XT\, United Kingdom
CATEGORIES:Nature and Outdoors
ATTACH;FMTTYPE=image/jpeg:https://boleskinehouse.org/wp-content/uploads/2024/12/Hedgerow-Planting.jpg
ORGANIZER;CN="Boleskine House":MAILTO:info@boleskinehouse.org
END:VEVENT
END:VCALENDAR